BEGIN:VCALENDAR
VERSION:2.0
PRODID:-//wp-events-plugin.com//7.2.3.1//EN
TZID:Europe/Berlin
X-WR-TIMEZONE:Europe/Berlin
BEGIN:VEVENT
UID:36@lernen-mit-rueckenwind.com
DTSTART;TZID=Europe/Vienna:20260626T090000
DTEND;TZID=Europe/Vienna:20260628T170000
DTSTAMP:20260326T110802Z
URL:https://lernen-mit-rueckenwind.com/events/integration-der-motorischen-
 entwicklung-kurs/
SUMMARY:Integration der motorischen Entwicklung - Kurs
DESCRIPTION:Die motorische Entwicklung von Geburt bis freiem Stehen und Lau
 fen als Grundlage für Lesen\, Schreiben\, emotionale Stabilität und Koor
 dination. Hier lernen Sie\, diese Entwicklung kinesiologisch zu integriere
 n. 
ATTACH;FMTTYPE=image/jpeg:https://lernen-mit-rueckenwind.com/wp-content/up
 loads/kurs-entwicklungskinesiologie-motorik.jpg
CATEGORIES:Kurse
LOCATION:Live Zoom\, Live\, Zoom\, Österreich
X-APPLE-STRUCTURED-LOCATION;VALUE=URI;X-ADDRESS=Live\, Zoom\, Österreich;X
 -APPLE-RADIUS=100;X-TITLE=Live Zoom:geo:0,0
END:VEVENT
BEGIN:VTIMEZONE
TZID:Europe/Vienna
X-LIC-LOCATION:Europe/Vienna
BEGIN:DAYLIGHT
DTSTART:20260329T030000
TZOFFSETFROM:+0100
TZOFFSETTO:+0200
TZNAME:CEST
END:DAYLIGHT
END:VTIMEZONE
END:VCALENDAR